Workbook

Sheet Column Estimator
A1: CONCRETE COLUMN ESTIMATOR
A2: Rectangular Column — Metric (SI) Units
A4: COLUMN DIMENSIONS & INPUTS
A5: Parameter | B5: Value | C5: Unit | D5: Notes
A6: Column Width (b) | B6: 500 | C6: mm | D6: Short dimension
A7: Column Depth (h) | B7: 600 | C7: mm | D7: Long dimension
A8: Column Height (L) | B8: 4500 | C8: mm | D8: Floor-to-floor height
A9: Number of Columns | B9: 1 | C9: nos | D9: Identical columns
A10: Concrete Cover | B10: 40 | C10: mm | D10: Clear cover to ties
A11: Concrete Grade | B11: C30 | D11: e.g., C20, C25, C30, C35
A12: Steel Grade | B12: 420 | C12: MPa | D12: fy - yield strength
A13: Density of Steel | B13: 7850 | C13: kg/m³ | D13: Unit weight of steel
A14: Density of Concrete | B14: 2400 | C14: kg/m³ | D14: Reinforced concrete
A16: UNIT COSTS
A17: Item | B17: Rate | C17: Unit | D17: Notes
A18: Concrete Supply | B18: 5000 | C18: Php/m³ | D18: Ready-mix delivered
A19: Concrete Placement | B19: 35 | C19: Php/m³ | D19: Pour + vibration
A20: Reinforcement Steel | B20: 1.2 | C20: Php/kg | D20: Supply + cut + bend
A21: Steel Fixing Labour | B21: 0.45 | C21: Php/kg | D21: Tying & placing
A22: Formwork | B22: 45 | C22: Php/m² | D22: Supply + erect + strip
A24: CONCRETE QUANTITY & COST
A25: Description | B25: Value | C25: Unit | D25: Formula
A26: Cross-Sectional Area | B26: =(B6*B7)/1000000 -> 0.3 | C26: m² | D26: b × h
A27: Volume per Column | B27: =B26*(B8/1000) -> 1.35 | C27: m³ | D27: Area × Height
A28: Total Concrete Volume | B28: =B27*B9 -> 1.35 | C28: m³ | D28: Vol × No. of columns
A29: Concrete Weight | B29: =B28*B14 -> 3240 | C29: kg | D29: Vol × Density
A30: Total Concrete Cost | B30: =B28*(B18+B19) -> 6797.25 | C30: Php | D30: Vol × (Supply + Place)
A32: FORMWORK QUANTITY & COST
A33: Description | B33: Value | C33: Unit | D33: Formula
A34: Perimeter of Column | B34: =2*(B6+B7)/1000 -> 2.2 | C34: m | D34: 2 × (b + h)
A35: Formwork Area per Column | B35: =B34*(B8/1000) -> 9.9 | C35: m² | D35: Perimeter × Height
A36: Total Formwork Area | B36: =B35*B9 -> 9.9 | C36: m² | D36: Area × No. of columns
A37: Total Formwork Cost | B37: =B36*B22 -> 445.5 | C37: Php | D37: Area × Rate
A40: COST SUMMARY
A41: Cost Item | B41: Amount (Php) | C41: % of Total | D41: Notes
A42: Concrete (Supply + Place) | B42: =B30 -> 6797.25 | C42: =IF(B47=0,0,B42/B47) -> 0.8414601 | D42: From concrete section
A43: Reinforcement (Material) | B43: =Reinforcement!G34*B20 -> 607.39864 | C43: =IF(B47=0,0,B43/B47) -> 0.075192427 | D43: From reinforcement sheet
A44: Reinforcement (Labour) | B44: =Reinforcement!G34*B21 -> 227.77449 | C44: =IF(B47=0,0,B44/B47) -> 0.02819716 | D44: From reinforcement sheet
A45: Formwork | B45: =B37 -> 445.5 | C45: =IF(B47=0,0,B45/B47) -> 0.055150314 | D45: From formwork section
A47: GRAND TOTAL | B47: =SUM(B42:B45) -> 8077.9231 | C47: =SUM(C42:C45) -> 1
...

Sheet Reinforcement
A1: REINFORCEMENT SCHEDULE
A2: Rectangular Column — Linked to Column Estimator
A4: REINFORCEMENT INPUTS
A5: Parameter | B5: Value | C5: Unit | D5: Notes
A6: Main Bar Diameter | B6: 32 | C6: mm | D6: Longitudinal bars
A7: Number of Main Bars | B7: 12 | C7: nos | D7: Total bars in section
A8: Tie/Stirrup Diameter | B8: 12 | C8: mm | D8: Lateral ties
A9: Tie Spacing | B9: 150 | C9: mm | D9: Center-to-center
A10: Lap Splice Length | B10: =40*B6 -> 1280 | C10: mm | D10: 40× bar dia (typical)
A11: Hook Length (ties) | B11: =10*B8 -> 120 | C11: mm | D11: 10× tie dia (135° hook)
A12: Wastage Allowance | B12: 0.02 | C12: % | D12: 5% cutting waste
A14: LONGITUDINAL (MAIN) BARS
A15: Description | B15: Bar Dia (mm) | C15: No. of Bars | D15: Length/Bar (mm) | E15: Total Length (m) | F15: Wt/m (kg/m) | G15: Total Wt (kg)
A16: Main bars (per column) | B16: =B6 -> 32 | C16: =B7 -> 12 | D16: ='Column Estimator'!B8+B10 -> 5780 | E16: =C16*D16/1000 -> 69.36 | F16: =(B16/1000)^2*PI()/4*'Column Estimator'!B13 -> 6.3133446 | G16: =E16*F16 -> 437.89358
A17: Total main bars (all columns) | B17: =B16 -> 32 | C17: =C16*'Column Estimator'!B9 -> 12 | D17: =D16 -> 5780 | E17: =C17*D17/1000 -> 69.36 | F17: =F16 -> 6.3133446 | G17: =E17*F17 -> 437.89358
A19: Steel Ratio Check (ρ) | B19: =C16*PI()*(B6/2)^2/('Column Estimator'!B6*'Column Estimator'!B7) -> 0.032169909 | C19: (1% - 4% typical)
A21: TIES / STIRRUPS
A22: Description | B22: Bar Dia (mm) | C22: No. of Ties | D22: Length/Tie (mm) | E22: Total Length (m) | F22: Wt/m (kg/m) | G22: Total Wt (kg)
A23: Ties (per column) | B23: =B8 -> 12 | C23: =INT('Column Estimator'!B8/B9)+1 -> 31 | D23: =2*(('Column Estimator'!B6-2*'Column Estimator'!B10)+ ('Column Estimator'!B7-2*'Column Estimator'!B10))+2*B11 -> 2120 | E23: =C23*D23/1000 -> 65.72 | F23: =(B23/1000)^2*PI()/4*'Column Estimator'!B13 -> 0.88781408 | G23: =E23*F23 -> 58.347142
A24: Total ties (all columns) | B24: =B23 -> 12 | C24: =C23*'Column Estimator'!B9 -> 31 | D24: =D23 -> 2120 | E24: =C24*D24/1000 -> 65.72 | F24: =F23 -> 0.88781408 | G24: =E24*F24 -> 58.347142
A28: REINFORCEMENT SUMMARY
A29: Description | G29: Weight (kg)
A30: Main Bars (total) | G30: =G17 -> 437.89358
A31: Ties/Stirrups (total) | G31: =G24 -> 58.347142
A32: Subtotal Steel | G32: =G30+G31 -> 496.24072
A33: Wastage Allowance | G33: =G32*B12 -> 9.9248145
A34: TOTAL STEEL WEIGHT | G34: =G32+G33 -> 506.16554
A36: Steel Ratio (kg/m³) | G36: =IF('Column Estimator'!B28=0,0,G34/'Column Estimator'!B28) -> 374.93744
A38: REINFORCEMENT COST
A39: Cost Item | E39: Rate | F39: Unit | G39: Amount (Php)
A40: Steel Material | E40: ='Column Estimator'!B20 -> 1.2 | F40: Php/kg | G40: =G34*E40 -> 607.39864
A41: Steel Fixing Labour | E41: ='Column Estimator'!B21 -> 0.45 | F41: Php/kg | G41: =G34*E41 -> 227.77449
A43: TOTAL REBAR COST | G43: =G40+G41 -> 835.17314
